BEGIN:VCALENDAR
VERSION:2.0
PRODID:-//hacksw/handcal//NONSGML v1.0//EN
CALSCALE:GREGORIAN
BEGIN:VEVENT
DTSTART:20200127T110000Z
DTEND:20200127T110000Z
UID:e22680
DTSTAMP:20260419T123847Z
LOCATION:Nella and Leon Benoziyo Building for Biological Sciences
DESCRIPTION:Singlet oxygen as an essential component in plant stress response
SUMMARY:Singlet oxygen as an essential component in plant stress response
END:VEVENT
END:VCALENDAR