BEGIN:VCALENDAR
VERSION:2.0
PRODID:-//hacksw/handcal//NONSGML v1.0//EN
CALSCALE:GREGORIAN
BEGIN:VEVENT
DTSTART:20200128T110000Z
DTEND:20200128T120000Z
UID:e22684
DTSTAMP:20260422T034126Z
LOCATION:Helen and Milton A. Kimmelman Building
DESCRIPTION:Toward HCV vaccine - Structural studies of HCV E2 envelop glycoprotein that facilitates rational design of HCV vaccine.
SUMMARY:Toward HCV vaccine - Structural studies of HCV E2 envelop glycoprotein that facilitates rational design of HCV vaccine.
END:VEVENT
END:VCALENDAR