BEGIN:VCALENDAR
VERSION:2.0
PRODID:-//hacksw/handcal//NONSGML v1.0//EN
CALSCALE:GREGORIAN
BEGIN:VEVENT
DTSTART:20200210T080000Z
DTEND:20200210T091500Z
UID:e22690
DTSTAMP:20260422T204951Z
LOCATION:Gerhard M.J. Schmidt Lecture Hall
DESCRIPTION:The chiral induced spin selectivity- How it is relevant in Chemistry\, Physics\, and Biology
SUMMARY:The chiral induced spin selectivity- How it is relevant in Chemistry\, Physics\, and Biology
END:VEVENT
END:VCALENDAR