BEGIN:VCALENDAR
VERSION:2.0
PRODID:-//hacksw/handcal//NONSGML v1.0//EN
CALSCALE:GREGORIAN
BEGIN:VEVENT
DTSTART:20200128T110000Z
DTEND:20200128T120000Z
UID:e22698
DTSTAMP:20260422T033945Z
LOCATION:Arthur and Rochelle Belfer Building for Biomedical Research
DESCRIPTION:Department of Molecular Genetics Special guest seminar
SUMMARY:Department of Molecular Genetics Special guest seminar
END:VEVENT
END:VCALENDAR