BEGIN:VCALENDAR
VERSION:2.0
PRODID:-//hacksw/handcal//NONSGML v1.0//EN
CALSCALE:GREGORIAN
BEGIN:VEVENT
DTSTART:20200128T080000Z
DTEND:20200128T090000Z
UID:e22704
DTSTAMP:20260419T123847Z
LOCATION:Helen and Milton A. Kimmelman Building
DESCRIPTION:Catalyst Images\, Imaging and Imagination: Visualizing Molecules and Atoms in Action on Catalytic Surfaces 
SUMMARY:Catalyst Images\, Imaging and Imagination: Visualizing Molecules and Atoms in Action on Catalytic Surfaces 
END:VEVENT
END:VCALENDAR