BEGIN:VCALENDAR
VERSION:2.0
PRODID:-//hacksw/handcal//NONSGML v1.0//EN
CALSCALE:GREGORIAN
BEGIN:VEVENT
DTSTART:19691231T160000Z
DTEND:19691231T160000Z
UID:e22722
DTSTAMP:20260422T034654Z
LOCATION:
DESCRIPTION:SAAC meeting 2021
SUMMARY:SAAC meeting 2021
END:VEVENT
END:VCALENDAR