BEGIN:VCALENDAR
VERSION:2.0
PRODID:-//hacksw/handcal//NONSGML v1.0//EN
CALSCALE:GREGORIAN
BEGIN:VEVENT
DTSTART:20200210T110000Z
DTEND:20200210T120000Z
UID:e22746
DTSTAMP:20260423T054012Z
LOCATION:Max and Lillian Candiotty Building
DESCRIPTION:Non-enzymatic modifications on histones drive chamges in chromatin structure and function
SUMMARY:Non-enzymatic modifications on histones drive chamges in chromatin structure and function
END:VEVENT
END:VCALENDAR