BEGIN:VCALENDAR
VERSION:2.0
PRODID:-//hacksw/handcal//NONSGML v1.0//EN
CALSCALE:GREGORIAN
BEGIN:VEVENT
DTSTART:20220403T050000Z
DTEND:20220406T050000Z
UID:e22750
DTSTAMP:20260420T190105Z
LOCATION:The David Lopatie Conference Centre
DESCRIPTION:Sexual dimorphism of neuronal circuits and behavior
SUMMARY:Sexual dimorphism of neuronal circuits and behavior
END:VEVENT
END:VCALENDAR