BEGIN:VCALENDAR
VERSION:2.0
PRODID:-//hacksw/handcal//NONSGML v1.0//EN
CALSCALE:GREGORIAN
BEGIN:VEVENT
DTSTART:20200304T110000Z
DTEND:20200304T120000Z
UID:e22758
DTSTAMP:20260421T093307Z
LOCATION:Arthur and Rochelle Belfer Building for Biomedical Research
DESCRIPTION:Azrieli Institute for Systems Biology
SUMMARY:Azrieli Institute for Systems Biology
END:VEVENT
END:VCALENDAR