BEGIN:VCALENDAR
VERSION:2.0
PRODID:-//hacksw/handcal//NONSGML v1.0//EN
CALSCALE:GREGORIAN
BEGIN:VEVENT
DTSTART:20200204T093000Z
DTEND:20200204T093000Z
UID:e22778
DTSTAMP:20260422T033926Z
LOCATION:Gerhard M.J. Schmidt Lecture Hall
DESCRIPTION:Whole-brain fMRI of the Behaving Mouse
SUMMARY:Whole-brain fMRI of the Behaving Mouse
END:VEVENT
END:VCALENDAR