BEGIN:VCALENDAR
VERSION:2.0
PRODID:-//hacksw/handcal//NONSGML v1.0//EN
CALSCALE:GREGORIAN
BEGIN:VEVENT
DTSTART:20200205T160000Z
DTEND:20200205T180000Z
UID:e22780
DTSTAMP:20260423T065744Z
LOCATION:Dolfi and Lola Ebner Auditorium
DESCRIPTION:Weizmann - Herzl corner
SUMMARY:Weizmann - Herzl corner
END:VEVENT
END:VCALENDAR