BEGIN:VCALENDAR
VERSION:2.0
PRODID:-//hacksw/handcal//NONSGML v1.0//EN
CALSCALE:GREGORIAN
BEGIN:VEVENT
DTSTART:20200223T110000Z
DTEND:20200223T120000Z
UID:e22782
DTSTAMP:20260419T231723Z
LOCATION:Helen and Milton A. Kimmelman Building
DESCRIPTION:Buckyball Maracas: Fullerene Nanocontainers that Stabilize Unusual Atoms and Clusters Inside 
SUMMARY:Buckyball Maracas: Fullerene Nanocontainers that Stabilize Unusual Atoms and Clusters Inside 
END:VEVENT
END:VCALENDAR