BEGIN:VCALENDAR
VERSION:2.0
PRODID:-//hacksw/handcal//NONSGML v1.0//EN
CALSCALE:GREGORIAN
BEGIN:VEVENT
DTSTART:20200407T090000Z
DTEND:20200407T090000Z
UID:e22794
DTSTAMP:20260421T213510Z
LOCATION:Dolfi and Lola Ebner Auditorium
DESCRIPTION:Dr. Ziv Shulman   - On immunity and antibodies
SUMMARY:Dr. Ziv Shulman   - On immunity and antibodies
END:VEVENT
END:VCALENDAR