BEGIN:VCALENDAR
VERSION:2.0
PRODID:-//hacksw/handcal//NONSGML v1.0//EN
CALSCALE:GREGORIAN
BEGIN:VEVENT
DTSTART:20200209T120000Z
DTEND:20200209T130000Z
UID:e22798
DTSTAMP:20260423T044651Z
LOCATION:Arthur and Rochelle Belfer Building for Biomedical Research
DESCRIPTION:The Genomics of Fasting and Inflammation Reveals Dynamic Cooperativity Between Transcription Factors
SUMMARY:The Genomics of Fasting and Inflammation Reveals Dynamic Cooperativity Between Transcription Factors
END:VEVENT
END:VCALENDAR