BEGIN:VCALENDAR
VERSION:2.0
PRODID:-//hacksw/handcal//NONSGML v1.0//EN
CALSCALE:GREGORIAN
BEGIN:VEVENT
DTSTART:20200210T111500Z
DTEND:20200210T111500Z
UID:e22808
DTSTAMP:20260422T204950Z
LOCATION:Edna and K.B. Weissman Building of Physical Sciences
DESCRIPTION:Thermal conductance of one dimensional disordered harmonic chains
SUMMARY:Thermal conductance of one dimensional disordered harmonic chains
END:VEVENT
END:VCALENDAR