BEGIN:VCALENDAR
VERSION:2.0
PRODID:-//hacksw/handcal//NONSGML v1.0//EN
CALSCALE:GREGORIAN
BEGIN:VEVENT
DTSTART:20200630T073000Z
DTEND:20200630T080000Z
UID:e22816
DTSTAMP:20260422T041750Z
LOCATION:Nella and Leon Benoziyo Building for Biological Sciences
DESCRIPTION:Comparative Structural Analysis of 20S Proteasome Ortholog Protein Complexes by Native Mass Spectrometry
SUMMARY:Comparative Structural Analysis of 20S Proteasome Ortholog Protein Complexes by Native Mass Spectrometry
END:VEVENT
END:VCALENDAR