BEGIN:VCALENDAR
VERSION:2.0
PRODID:-//hacksw/handcal//NONSGML v1.0//EN
CALSCALE:GREGORIAN
BEGIN:VEVENT
DTSTART:20200220T083000Z
DTEND:20200220T093000Z
UID:e22824
DTSTAMP:20260420T065141Z
LOCATION:Nella and Leon Benoziyo Building for Biological Sciences
DESCRIPTION:Looking into the rocks of Acheulo-Yabrudian Qesem Cave (Israel\, 420-200 kya)
SUMMARY:Looking into the rocks of Acheulo-Yabrudian Qesem Cave (Israel\, 420-200 kya)
END:VEVENT
END:VCALENDAR