BEGIN:VCALENDAR
VERSION:2.0
PRODID:-//hacksw/handcal//NONSGML v1.0//EN
CALSCALE:GREGORIAN
BEGIN:VEVENT
DTSTART:20200206T060000Z
DTEND:20200206T070000Z
UID:e22828
DTSTAMP:20260423T054009Z
LOCATION:Perlman Chemical Sciences Building
DESCRIPTION:“Entropy and ceramics: A valuable partnership”
SUMMARY:“Entropy and ceramics: A valuable partnership”
END:VEVENT
END:VCALENDAR