BEGIN:VCALENDAR
VERSION:2.0
PRODID:-//hacksw/handcal//NONSGML v1.0//EN
CALSCALE:GREGORIAN
BEGIN:VEVENT
DTSTART:20200223T080000Z
DTEND:20200223T090000Z
UID:e22830
DTSTAMP:20260420T005425Z
LOCATION:Perlman Chemical Sciences Building
DESCRIPTION:Laser-induced graphene polymer composite membranes as electrically active filters for contaminant removal
SUMMARY:Laser-induced graphene polymer composite membranes as electrically active filters for contaminant removal
END:VEVENT
END:VCALENDAR