BEGIN:VCALENDAR
VERSION:2.0
PRODID:-//hacksw/handcal//NONSGML v1.0//EN
CALSCALE:GREGORIAN
BEGIN:VEVENT
DTSTART:20200213T070000Z
DTEND:20200213T080000Z
UID:e22864
DTSTAMP:20260420T010335Z
LOCATION:Perlman Chemical Sciences Building
DESCRIPTION:M.Sc thesis defense: "The origin of anharmonic atomic motion in halide perovskite crystals"
SUMMARY:M.Sc thesis defense: "The origin of anharmonic atomic motion in halide perovskite crystals"
END:VEVENT
END:VCALENDAR