BEGIN:VCALENDAR
VERSION:2.0
PRODID:-//hacksw/handcal//NONSGML v1.0//EN
CALSCALE:GREGORIAN
BEGIN:VEVENT
DTSTART:20200225T093000Z
DTEND:20200225T093000Z
UID:e22868
DTSTAMP:20260420T005440Z
LOCATION:Gerhard M.J. Schmidt Lecture Hall
DESCRIPTION:Synaptic markers in the reward system  for the predisposition to overeat
SUMMARY:Synaptic markers in the reward system  for the predisposition to overeat
END:VEVENT
END:VCALENDAR