BEGIN:VCALENDAR
VERSION:2.0
PRODID:-//hacksw/handcal//NONSGML v1.0//EN
CALSCALE:GREGORIAN
BEGIN:VEVENT
DTSTART:20200318T080000Z
DTEND:20200318T090000Z
UID:e22870
DTSTAMP:20260421T102920Z
LOCATION:Gerhard M.J. Schmidt Lecture Hall
DESCRIPTION:Canceled: Nanoscale Electronic Phenomena in Ferroelectric Thin Films
SUMMARY:Canceled: Nanoscale Electronic Phenomena in Ferroelectric Thin Films
END:VEVENT
END:VCALENDAR