BEGIN:VCALENDAR
VERSION:2.0
PRODID:-//hacksw/handcal//NONSGML v1.0//EN
CALSCALE:GREGORIAN
BEGIN:VEVENT
DTSTART:20200227T080000Z
DTEND:20200227T090000Z
UID:e22884
DTSTAMP:20260419T231635Z
LOCATION:Arthur and Rochelle Belfer Building for Biomedical Research
DESCRIPTION:Molecular Genetics special guest seminar
SUMMARY:Molecular Genetics special guest seminar
END:VEVENT
END:VCALENDAR