BEGIN:VCALENDAR
VERSION:2.0
PRODID:-//hacksw/handcal//NONSGML v1.0//EN
CALSCALE:GREGORIAN
BEGIN:VEVENT
DTSTART:20200225T083000Z
DTEND:20200225T093000Z
UID:e22888
DTSTAMP:20260419T231705Z
LOCATION:Nella and Leon Benoziyo Building for Biological Sciences
DESCRIPTION:The use of resistant pear accessions as inter-stock in order to reduce susceptibility to pear psylla in commercial pear trees - practice and the science behind
SUMMARY:The use of resistant pear accessions as inter-stock in order to reduce susceptibility to pear psylla in commercial pear trees - practice and the science behind
END:VEVENT
END:VCALENDAR