BEGIN:VCALENDAR
VERSION:2.0
PRODID:-//hacksw/handcal//NONSGML v1.0//EN
CALSCALE:GREGORIAN
BEGIN:VEVENT
DTSTART:20200305T100000Z
DTEND:20200305T113000Z
UID:e22892
DTSTAMP:20260421T093304Z
LOCATION:
DESCRIPTION:Building Atomic Models of Biomolecules in CCP-EM - Dr. Colin Palmer
SUMMARY:Building Atomic Models of Biomolecules in CCP-EM - Dr. Colin Palmer
END:VEVENT
END:VCALENDAR