BEGIN:VCALENDAR
VERSION:2.0
PRODID:-//hacksw/handcal//NONSGML v1.0//EN
CALSCALE:GREGORIAN
BEGIN:VEVENT
DTSTART:20200315T080000Z
DTEND:20200315T080000Z
UID:e22896
DTSTAMP:20260423T185230Z
LOCATION:Sussman Family Building for Environmental Sciences
DESCRIPTION:Potential role of cloud microorganisms in atmospheric chemistry
SUMMARY:Potential role of cloud microorganisms in atmospheric chemistry
END:VEVENT
END:VCALENDAR