BEGIN:VCALENDAR
VERSION:2.0
PRODID:-//hacksw/handcal//NONSGML v1.0//EN
CALSCALE:GREGORIAN
BEGIN:VEVENT
DTSTART:20200303T080000Z
DTEND:20200303T090000Z
UID:e22922
DTSTAMP:20260421T114627Z
LOCATION:Helen and Milton A. Kimmelman Building
DESCRIPTION:Multidomain Peptide Assemblies for the Design of Adaptive Supramolecular Polymers and Synthetic Vaccines
SUMMARY:Multidomain Peptide Assemblies for the Design of Adaptive Supramolecular Polymers and Synthetic Vaccines
END:VEVENT
END:VCALENDAR