BEGIN:VCALENDAR
VERSION:2.0
PRODID:-//hacksw/handcal//NONSGML v1.0//EN
CALSCALE:GREGORIAN
BEGIN:VEVENT
DTSTART:20200305T060000Z
DTEND:20200305T070000Z
UID:e22944
DTSTAMP:20260421T114657Z
LOCATION:Max and Lillian Candiotty Building
DESCRIPTION:Actomyosin assembly and membrane dynamics  during secretion
SUMMARY:Actomyosin assembly and membrane dynamics  during secretion
END:VEVENT
END:VCALENDAR