BEGIN:VCALENDAR
VERSION:2.0
PRODID:-//hacksw/handcal//NONSGML v1.0//EN
CALSCALE:GREGORIAN
BEGIN:VEVENT
DTSTART:20200322T100000Z
DTEND:20200322T110000Z
UID:e22956
DTSTAMP:20260421T085421Z
LOCATION:Nella and Leon Benoziyo Building for Biological Sciences
DESCRIPTION:Canceled: Innovation and Sustainable Development
SUMMARY:Canceled: Innovation and Sustainable Development
END:VEVENT
END:VCALENDAR