BEGIN:VCALENDAR
VERSION:2.0
PRODID:-//hacksw/handcal//NONSGML v1.0//EN
CALSCALE:GREGORIAN
BEGIN:VEVENT
DTSTART:20200308T080000Z
DTEND:20200308T090000Z
UID:e22960
DTSTAMP:20260421T030615Z
LOCATION:Perlman Chemical Sciences Building
DESCRIPTION:Engineering 3D vascularized tissue constructs: effects of biomaterials and mechanical forces. 
SUMMARY:Engineering 3D vascularized tissue constructs: effects of biomaterials and mechanical forces. 
END:VEVENT
END:VCALENDAR