BEGIN:VCALENDAR
VERSION:2.0
PRODID:-//hacksw/handcal//NONSGML v1.0//EN
CALSCALE:GREGORIAN
BEGIN:VEVENT
DTSTART:19691231T160000Z
DTEND:19691231T160000Z
UID:e22968
DTSTAMP:20260421T085300Z
LOCATION:Jacob Ziskind Building
DESCRIPTION:Canceled:Kanevskyfest: Algebra\, Dynamics and Geometry
SUMMARY:Canceled:Kanevskyfest: Algebra\, Dynamics and Geometry
END:VEVENT
END:VCALENDAR