BEGIN:VCALENDAR
VERSION:2.0
PRODID:-//hacksw/handcal//NONSGML v1.0//EN
CALSCALE:GREGORIAN
BEGIN:VEVENT
DTSTART:20200315T101500Z
DTEND:20200315T101500Z
UID:e22986
DTSTAMP:20260422T182621Z
LOCATION:Edna and K.B. Weissman Building of Physical Sciences
DESCRIPTION:Recovering Lost Information in the Digital World
SUMMARY:Recovering Lost Information in the Digital World
END:VEVENT
END:VCALENDAR