BEGIN:VCALENDAR
VERSION:2.0
PRODID:-//hacksw/handcal//NONSGML v1.0//EN
CALSCALE:GREGORIAN
BEGIN:VEVENT
DTSTART:20200330T110000Z
DTEND:20200330T130000Z
UID:e22990
DTSTAMP:20260421T085334Z
LOCATION:
DESCRIPTION:Harnessing Fermentation to Feed the World - Online meeting
SUMMARY:Harnessing Fermentation to Feed the World - Online meeting
END:VEVENT
END:VCALENDAR