BEGIN:VCALENDAR
VERSION:2.0
PRODID:-//hacksw/handcal//NONSGML v1.0//EN
CALSCALE:GREGORIAN
BEGIN:VEVENT
DTSTART:20200426T060000Z
DTEND:20200426T131500Z
UID:e23000
DTSTAMP:20260421T182301Z
LOCATION:
DESCRIPTION:Symposium on SARS-CoV-2 research at the Weizmann Institute
SUMMARY:Symposium on SARS-CoV-2 research at the Weizmann Institute
END:VEVENT
END:VCALENDAR