BEGIN:VCALENDAR
VERSION:2.0
PRODID:-//hacksw/handcal//NONSGML v1.0//EN
CALSCALE:GREGORIAN
BEGIN:VEVENT
DTSTART:20200524T100000Z
DTEND:20200524T110000Z
UID:e23022
DTSTAMP:20260420T115932Z
LOCATION:
DESCRIPTION:Departmental Seminar by Daria Amiad-Pavlov 
SUMMARY:Departmental Seminar by Daria Amiad-Pavlov 
END:VEVENT
END:VCALENDAR