BEGIN:VCALENDAR
VERSION:2.0
PRODID:-//hacksw/handcal//NONSGML v1.0//EN
CALSCALE:GREGORIAN
BEGIN:VEVENT
DTSTART:20200531T100000Z
DTEND:20200531T104500Z
UID:e23042
DTSTAMP:20260421T085259Z
LOCATION:
DESCRIPTION:Departmental seminar by Aude Bernheim
SUMMARY:Departmental seminar by Aude Bernheim
END:VEVENT
END:VCALENDAR