BEGIN:VCALENDAR
VERSION:2.0
PRODID:-//hacksw/handcal//NONSGML v1.0//EN
CALSCALE:GREGORIAN
BEGIN:VEVENT
DTSTART:20200531T080000Z
DTEND:20200531T090000Z
UID:e23050
DTSTAMP:20260420T091551Z
LOCATION:Sussman Family Building for Environmental Sciences
DESCRIPTION:Life and death in a pinch of salt: chronology\, sedimentology\, and geobiology of the Messenian Salinity Crisis deposits in the deep Levant Basin
SUMMARY:Life and death in a pinch of salt: chronology\, sedimentology\, and geobiology of the Messenian Salinity Crisis deposits in the deep Levant Basin
END:VEVENT
END:VCALENDAR