BEGIN:VCALENDAR
VERSION:2.0
PRODID:-//hacksw/handcal//NONSGML v1.0//EN
CALSCALE:GREGORIAN
BEGIN:VEVENT
DTSTART:20200624T133000Z
DTEND:20200624T150000Z
UID:e23076
DTSTAMP:20260422T041751Z
LOCATION:
DESCRIPTION:Algebraic Geometry and Representation Theory Seminar
SUMMARY:Algebraic Geometry and Representation Theory Seminar
END:VEVENT
END:VCALENDAR