BEGIN:VCALENDAR
VERSION:2.0
PRODID:-//hacksw/handcal//NONSGML v1.0//EN
CALSCALE:GREGORIAN
BEGIN:VEVENT
DTSTART:20200625T130000Z
DTEND:20200625T130000Z
UID:e23086
DTSTAMP:20260422T182758Z
LOCATION:
DESCRIPTION:High-dimensional geometry of visual cortex
SUMMARY:High-dimensional geometry of visual cortex
END:VEVENT
END:VCALENDAR