BEGIN:VCALENDAR
VERSION:2.0
PRODID:-//hacksw/handcal//NONSGML v1.0//EN
CALSCALE:GREGORIAN
BEGIN:VEVENT
DTSTART:20200716T110000Z
DTEND:20200716T120000Z
UID:e23088
DTSTAMP:20260419T230030Z
LOCATION:Nella and Leon Benoziyo Building for Biological Sciences
DESCRIPTION:TP53 mutations playing Dr. Jekyll and Mr. Hyde in the mouse gut
SUMMARY:TP53 mutations playing Dr. Jekyll and Mr. Hyde in the mouse gut
END:VEVENT
END:VCALENDAR