BEGIN:VCALENDAR
VERSION:2.0
PRODID:-//hacksw/handcal//NONSGML v1.0//EN
CALSCALE:GREGORIAN
BEGIN:VEVENT
DTSTART:20200813T110000Z
DTEND:20200813T120000Z
UID:e23120
DTSTAMP:20260422T041741Z
LOCATION:Nella and Leon Benoziyo Building for Biological Sciences
DESCRIPTION:New pre-clinical tools for guiding efficient therapies against head and neck cancer 
SUMMARY:New pre-clinical tools for guiding efficient therapies against head and neck cancer 
END:VEVENT
END:VCALENDAR