BEGIN:VCALENDAR
VERSION:2.0
PRODID:-//hacksw/handcal//NONSGML v1.0//EN
CALSCALE:GREGORIAN
BEGIN:VEVENT
DTSTART:20200813T081500Z
DTEND:20200813T093000Z
UID:e23126
DTSTAMP:20260422T041916Z
LOCATION:
DESCRIPTION:Physical Aspects of Language: Memory\, Correlations and Structure in Text and Conversation
SUMMARY:Physical Aspects of Language: Memory\, Correlations and Structure in Text and Conversation
END:VEVENT
END:VCALENDAR