BEGIN:VCALENDAR
VERSION:2.0
PRODID:-//hacksw/handcal//NONSGML v1.0//EN
CALSCALE:GREGORIAN
BEGIN:VEVENT
DTSTART:20201022T081500Z
DTEND:20201022T093000Z
UID:e23140
DTSTAMP:20260422T204835Z
LOCATION:
DESCRIPTION:From Ultralight Dark Matter to Snowballs in Hell: a Tour in Particle Astrophysics
SUMMARY:From Ultralight Dark Matter to Snowballs in Hell: a Tour in Particle Astrophysics
END:VEVENT
END:VCALENDAR