BEGIN:VCALENDAR
VERSION:2.0
PRODID:-//hacksw/handcal//NONSGML v1.0//EN
CALSCALE:GREGORIAN
BEGIN:VEVENT
DTSTART:20200820T130000Z
DTEND:20200820T140000Z
UID:e23158
DTSTAMP:20260422T041914Z
LOCATION:
DESCRIPTION:The Structural Basis of Strigolactone Perception in Plants
SUMMARY:The Structural Basis of Strigolactone Perception in Plants
END:VEVENT
END:VCALENDAR