BEGIN:VCALENDAR
VERSION:2.0
PRODID:-//hacksw/handcal//NONSGML v1.0//EN
CALSCALE:GREGORIAN
BEGIN:VEVENT
DTSTART:20200910T081500Z
DTEND:20200910T093000Z
UID:e23162
DTSTAMP:20260422T151340Z
LOCATION:
DESCRIPTION:Toward autonomous artificial cells on a chip
SUMMARY:Toward autonomous artificial cells on a chip
END:VEVENT
END:VCALENDAR