BEGIN:VCALENDAR
VERSION:2.0
PRODID:-//hacksw/handcal//NONSGML v1.0//EN
CALSCALE:GREGORIAN
BEGIN:VEVENT
DTSTART:20201015T110000Z
DTEND:20201015T120000Z
UID:e23180
DTSTAMP:20260422T204950Z
LOCATION:Nella and Leon Benoziyo Building for Biological Sciences
DESCRIPTION:Effects of p16Ink4a and cellular senescence on tissue function and cancer development
SUMMARY:Effects of p16Ink4a and cellular senescence on tissue function and cancer development
END:VEVENT
END:VCALENDAR