BEGIN:VCALENDAR
VERSION:2.0
PRODID:-//hacksw/handcal//NONSGML v1.0//EN
CALSCALE:GREGORIAN
BEGIN:VEVENT
DTSTART:20200910T060000Z
DTEND:20200910T060000Z
UID:e23184
DTSTAMP:20260422T041743Z
LOCATION:
DESCRIPTION:Why are there colors in the ocean?
SUMMARY:Why are there colors in the ocean?
END:VEVENT
END:VCALENDAR