BEGIN:VCALENDAR
VERSION:2.0
PRODID:-//hacksw/handcal//NONSGML v1.0//EN
CALSCALE:GREGORIAN
BEGIN:VEVENT
DTSTART:20210629T120000Z
DTEND:20210629T140000Z
UID:e23192
DTSTAMP:20260424T055734Z
LOCATION:Dolfi and Lola Ebner Auditorium
DESCRIPTION:Scientific Council meeting
SUMMARY:Scientific Council meeting
END:VEVENT
END:VCALENDAR