BEGIN:VCALENDAR
VERSION:2.0
PRODID:-//hacksw/handcal//NONSGML v1.0//EN
CALSCALE:GREGORIAN
BEGIN:VEVENT
DTSTART:20201029T110000Z
DTEND:20201029T120000Z
UID:e23196
DTSTAMP:20260422T142609Z
LOCATION:Nella and Leon Benoziyo Building for Biological Sciences
DESCRIPTION:BRCA mutations rewire stromal cells in the tumor microenvironment  
SUMMARY:BRCA mutations rewire stromal cells in the tumor microenvironment  
END:VEVENT
END:VCALENDAR