BEGIN:VCALENDAR
VERSION:2.0
PRODID:-//hacksw/handcal//NONSGML v1.0//EN
CALSCALE:GREGORIAN
BEGIN:VEVENT
DTSTART:20201119T110000Z
DTEND:20201119T120000Z
UID:e23202
DTSTAMP:20260421T234620Z
LOCATION:Nella and Leon Benoziyo Building for Biological Sciences
DESCRIPTION:Cancer evolution\, immune evasion and metastasis
SUMMARY:Cancer evolution\, immune evasion and metastasis
END:VEVENT
END:VCALENDAR